Package: CytoPipelineGUI Version: 1.7.2 Command: /home/biocbuild/bbs-3.22-bioc/R/bin/R CMD INSTALL CytoPipelineGUI StartedAt: 2025-10-24 15:44:43 -0400 (Fri, 24 Oct 2025) EndedAt: 2025-10-24 15:44:56 -0400 (Fri, 24 Oct 2025) EllapsedTime: 13.1 seconds RetCode: 0 Status: OK