Package: CytoPipelineGUI Version: 1.7.2 Command: /home/biocbuild/bbs-3.22-bioc/R/bin/R CMD check --install=check:CytoPipelineGUI.install-out.txt --library=/home/biocbuild/bbs-3.22-bioc/R/site-library --timings CytoPipelineGUI_1.7.2.tar.gz StartedAt: 2025-10-24 22:46:14 -0400 (Fri, 24 Oct 2025) EndedAt: 2025-10-24 22:49:36 -0400 (Fri, 24 Oct 2025) EllapsedTime: 202.2 seconds RetCode: 0 Status: OK CheckDir: CytoPipelineGUI.Rcheck Warnings: 0