Package: CytoPipelineGUI Version: 1.7.2 Command: /Library/Frameworks/R.framework/Resources/bin/R CMD INSTALL CytoPipelineGUI StartedAt: 2025-10-24 15:40:28 -0400 (Fri, 24 Oct 2025) EndedAt: 2025-10-24 15:40:47 -0400 (Fri, 24 Oct 2025) EllapsedTime: 18.6 seconds RetCode: 0 Status: OK