Package: CytoPipelineGUI Version: 1.8.0 Command: /Library/Frameworks/R.framework/Resources/bin/R CMD check --install=check:CytoPipelineGUI.install-out.txt --library=/Library/Frameworks/R.framework/Resources/library --no-vignettes --timings CytoPipelineGUI_1.8.0.tar.gz StartedAt: 2025-10-31 20:35:45 -0400 (Fri, 31 Oct 2025) EndedAt: 2025-10-31 20:39:07 -0400 (Fri, 31 Oct 2025) EllapsedTime: 201.4 seconds RetCode: 0 Status: OK CheckDir: CytoPipelineGUI.Rcheck Warnings: 0