Package: CytoPipelineGUI Version: 1.7.2 Command: /Library/Frameworks/R.framework/Resources/bin/R CMD build --keep-empty-dirs --no-resave-data CytoPipelineGUI StartedAt: 2025-10-24 16:45:10 -0400 (Fri, 24 Oct 2025) EndedAt: 2025-10-24 16:46:06 -0400 (Fri, 24 Oct 2025) EllapsedTime: 55.9 seconds RetCode: 0 Status: OK PackageFile: CytoPipelineGUI_1.7.2.tar.gz PackageFileSize: 1.723 MiB