Package: CytoPipelineGUI Version: 1.7.2 Command: /Library/Frameworks/R.framework/Resources/bin/R CMD INSTALL CytoPipelineGUI StartedAt: 2025-10-24 15:12:56 -0400 (Fri, 24 Oct 2025) EndedAt: 2025-10-24 15:13:01 -0400 (Fri, 24 Oct 2025) EllapsedTime: 5.1 seconds RetCode: 0 Status: OK