Package: CytoPipelineGUI Version: 1.7.2 Command: /Library/Frameworks/R.framework/Resources/bin/R CMD check --install=check:CytoPipelineGUI.install-out.txt --library=/Library/Frameworks/R.framework/Resources/library --no-vignettes --timings CytoPipelineGUI_1.7.2.tar.gz StartedAt: 2025-10-26 19:23:56 -0400 (Sun, 26 Oct 2025) EndedAt: 2025-10-26 19:25:02 -0400 (Sun, 26 Oct 2025) EllapsedTime: 65.8 seconds RetCode: 0 Status: OK CheckDir: CytoPipelineGUI.Rcheck Warnings: 0