Package: CytoPipeline Version: 1.9.4 Command: /home/biocbuild/R/R/bin/R CMD INSTALL CytoPipeline StartedAt: 2025-10-23 20:57:17 -0000 (Thu, 23 Oct 2025) EndedAt: 2025-10-23 20:57:38 -0000 (Thu, 23 Oct 2025) EllapsedTime: 21.0 seconds RetCode: 0 Status: OK