Package: CytoPipeline Version: 1.9.4 Command: /home/biocbuild/R/R/bin/R CMD build --keep-empty-dirs --no-resave-data CytoPipeline StartedAt: 2025-10-20 23:08:26 -0000 (Mon, 20 Oct 2025) EndedAt: 2025-10-20 23:09:34 -0000 (Mon, 20 Oct 2025) EllapsedTime: 68.0 seconds RetCode: 0 Status: OK PackageFile: CytoPipeline_1.9.4.tar.gz PackageFileSize: 2.768 MiB