Package: CytoPipeline Version: 1.9.4 Command: /home/biocbuild/bbs-3.22-bioc/R/bin/R CMD check --install=check:CytoPipeline.install-out.txt --library=/home/biocbuild/bbs-3.22-bioc/R/site-library --timings CytoPipeline_1.9.4.tar.gz StartedAt: 2025-10-24 22:46:10 -0400 (Fri, 24 Oct 2025) EndedAt: 2025-10-24 22:51:07 -0400 (Fri, 24 Oct 2025) EllapsedTime: 296.3 seconds RetCode: 0 Status: OK CheckDir: CytoPipeline.Rcheck Warnings: 0