Package: CytoPipeline Version: 1.9.4 Command: /home/biocbuild/bbs-3.22-bioc/R/bin/R CMD build --keep-empty-dirs --no-resave-data --md5 CytoPipeline StartedAt: 2025-10-24 17:18:24 -0400 (Fri, 24 Oct 2025) EndedAt: 2025-10-24 17:19:09 -0400 (Fri, 24 Oct 2025) EllapsedTime: 45.0 seconds RetCode: 0 Status: OK PackageFile: CytoPipeline_1.9.4.tar.gz PackageFileSize: 3.197 MiB