Package: CytoPipeline Version: 1.9.4 Command: /Library/Frameworks/R.framework/Resources/bin/R CMD INSTALL CytoPipeline StartedAt: 2025-10-24 15:40:05 -0400 (Fri, 24 Oct 2025) EndedAt: 2025-10-24 15:40:28 -0400 (Fri, 24 Oct 2025) EllapsedTime: 22.7 seconds RetCode: 0 Status: OK