Package: CytoPipeline Version: 1.9.4 Command: /Library/Frameworks/R.framework/Resources/bin/R CMD INSTALL CytoPipeline StartedAt: 2025-10-26 15:18:29 -0400 (Sun, 26 Oct 2025) EndedAt: 2025-10-26 15:18:36 -0400 (Sun, 26 Oct 2025) EllapsedTime: 6.7 seconds RetCode: 0 Status: OK