Package: CytoPipeline Version: 1.9.4 Command: /Library/Frameworks/R.framework/Resources/bin/R CMD build --keep-empty-dirs --no-resave-data CytoPipeline StartedAt: 2025-10-26 16:07:51 -0400 (Sun, 26 Oct 2025) EndedAt: 2025-10-26 16:08:10 -0400 (Sun, 26 Oct 2025) EllapsedTime: 19.2 seconds RetCode: 0 Status: OK PackageFile: CytoPipeline_1.9.4.tar.gz PackageFileSize: 3.346 MiB