Package: CytoPipeline Version: 1.9.4 Maintainer: Philippe Hauchamps MaintainerEmail: philippe.hauchamps at uclouvain.be git_url: https://git.bioconductor.org/packages/CytoPipeline git_branch: devel git_last_commit: 5390b8a git_last_commit_date: 2025-10-02 09:51:58 -0400 (Thu, 02 Oct 2025)