Package: CytoML Version: 2.21.0 Command: /Library/Frameworks/R.framework/Resources/bin/R CMD INSTALL CytoML StartedAt: 2025-10-24 15:40:01 -0400 (Fri, 24 Oct 2025) EndedAt: 2025-10-24 15:41:18 -0400 (Fri, 24 Oct 2025) EllapsedTime: 76.9 seconds RetCode: 0 Status: OK