Package: CytoMDS Version: 1.5.0 Command: /home/biocbuild/bbs-3.22-bioc/R/bin/R CMD INSTALL CytoMDS StartedAt: 2025-10-24 15:44:45 -0400 (Fri, 24 Oct 2025) EndedAt: 2025-10-24 15:45:00 -0400 (Fri, 24 Oct 2025) EllapsedTime: 14.8 seconds RetCode: 0 Status: OK