Package: CytoMDS Version: 1.5.0 Command: /home/biocbuild/bbs-3.22-bioc/R/bin/R CMD build --keep-empty-dirs --no-resave-data --md5 CytoMDS StartedAt: 2025-10-27 17:09:42 -0400 (Mon, 27 Oct 2025) EndedAt: 2025-10-27 17:12:34 -0400 (Mon, 27 Oct 2025) EllapsedTime: 172.2 seconds RetCode: 0 Status: OK PackageFile: CytoMDS_1.5.0.tar.gz PackageFileSize: 5.265 MiB