Package: CytoMDS Version: 1.6.0 Command: /Library/Frameworks/R.framework/Resources/bin/R CMD INSTALL CytoMDS StartedAt: 2025-11-02 15:10:17 -0500 (Sun, 02 Nov 2025) EndedAt: 2025-11-02 15:10:23 -0500 (Sun, 02 Nov 2025) EllapsedTime: 6.4 seconds RetCode: 0 Status: OK