Package: CytoMDS Version: 1.6.0 Command: /Library/Frameworks/R.framework/Resources/bin/R CMD build --keep-empty-dirs --no-resave-data CytoMDS StartedAt: 2025-11-02 16:06:34 -0500 (Sun, 02 Nov 2025) EndedAt: 2025-11-02 16:07:55 -0500 (Sun, 02 Nov 2025) EllapsedTime: 80.9 seconds RetCode: 0 Status: OK PackageFile: CytoMDS_1.6.0.tar.gz PackageFileSize: 5.075 MiB