Package: CytoMDS Version: 1.6.0 Command: rm -rf CytoMDS.buildbin-libdir && mkdir CytoMDS.buildbin-libdir && /Users/biocbuild/BBS/utils/build-universal.sh CytoMDS_1.6.0.tar.gz /Library/Frameworks/R.framework/Resources/bin/R CytoMDS.buildbin-libdir StartedAt: 2025-11-03 23:01:37 -0500 (Mon, 03 Nov 2025) EndedAt: 2025-11-03 23:01:46 -0500 (Mon, 03 Nov 2025) EllapsedTime: 8.1 seconds RetCode: 0 Status: OK PackageFile: CytoMDS_1.6.0.tgz PackageFileSize: 3.808 MiB