Package: CytoGLMM Version: 1.17.3 Command: /home/biocbuild/bbs-3.22-bioc/R/bin/R CMD INSTALL CytoGLMM StartedAt: 2025-10-24 15:21:20 -0400 (Fri, 24 Oct 2025) EndedAt: 2025-10-24 15:21:40 -0400 (Fri, 24 Oct 2025) EllapsedTime: 19.8 seconds RetCode: 0 Status: OK