Package: CytoGLMM Version: 1.17.3 Command: /Library/Frameworks/R.framework/Resources/bin/R CMD build --keep-empty-dirs --no-resave-data CytoGLMM StartedAt: 2025-10-28 16:06:34 -0400 (Tue, 28 Oct 2025) EndedAt: 2025-10-28 16:07:21 -0400 (Tue, 28 Oct 2025) EllapsedTime: 47.5 seconds RetCode: 0 Status: OK PackageFile: CytoGLMM_1.17.3.tar.gz PackageFileSize: 338.4 KiB