Package: CytoGLMM Version: 1.17.3 Command: rm -rf CytoGLMM.buildbin-libdir && mkdir CytoGLMM.buildbin-libdir && /Users/biocbuild/BBS/utils/build-universal.sh CytoGLMM_1.17.3.tar.gz /Library/Frameworks/R.framework/Resources/bin/R CytoGLMM.buildbin-libdir StartedAt: 2025-10-28 22:56:27 -0400 (Tue, 28 Oct 2025) EndedAt: 2025-10-28 22:56:34 -0400 (Tue, 28 Oct 2025) EllapsedTime: 7.1 seconds RetCode: 0 Status: OK PackageFile: CytoGLMM_1.17.3.tgz PackageFileSize: 425.7 KiB