Package: CytoDx Version: 1.29.0 Command: /home/biocbuild/bbs-3.22-bioc/R/bin/R CMD INSTALL CytoDx StartedAt: 2025-10-24 15:24:12 -0400 (Fri, 24 Oct 2025) EndedAt: 2025-10-24 15:24:23 -0400 (Fri, 24 Oct 2025) EllapsedTime: 11.6 seconds RetCode: 0 Status: OK