Package: CytoDx Version: 1.29.0 Command: /home/biocbuild/bbs-3.22-bioc/R/bin/R CMD build --keep-empty-dirs --no-resave-data --md5 CytoDx StartedAt: 2025-10-24 17:17:24 -0400 (Fri, 24 Oct 2025) EndedAt: 2025-10-24 17:17:44 -0400 (Fri, 24 Oct 2025) EllapsedTime: 20.0 seconds RetCode: 0 Status: OK PackageFile: CytoDx_1.29.0.tar.gz PackageFileSize: 662.9 KiB