Package: CyTOFpower Version: 1.15.0 Command: /home/biocbuild/bbs-3.22-bioc/R/bin/R CMD INSTALL CyTOFpower StartedAt: 2025-10-24 15:41:23 -0400 (Fri, 24 Oct 2025) EndedAt: 2025-10-24 15:41:29 -0400 (Fri, 24 Oct 2025) EllapsedTime: 6.1 seconds RetCode: 0 Status: OK