Package: CyTOFpower Version: 1.16.0 Command: /Library/Frameworks/R.framework/Resources/bin/R CMD INSTALL CyTOFpower StartedAt: 2025-10-30 15:25:54 -0400 (Thu, 30 Oct 2025) EndedAt: 2025-10-30 15:26:02 -0400 (Thu, 30 Oct 2025) EllapsedTime: 8.0 seconds RetCode: 0 Status: OK