Package: CyTOFpower Version: 1.16.0 Command: /Library/Frameworks/R.framework/Resources/bin/R CMD build --keep-empty-dirs --no-resave-data CyTOFpower StartedAt: 2025-10-29 23:19:09 -0400 (Wed, 29 Oct 2025) EndedAt: 2025-10-29 23:19:22 -0400 (Wed, 29 Oct 2025) EllapsedTime: 13.1 seconds RetCode: 0 Status: OK PackageFile: CyTOFpower_1.16.0.tar.gz PackageFileSize: 312.1 KiB