Package: CyTOFpower Version: 1.16.0 Command: rm -rf CyTOFpower.buildbin-libdir && mkdir CyTOFpower.buildbin-libdir && /Users/biocbuild/BBS/utils/build-universal.sh CyTOFpower_1.16.0.tar.gz /Library/Frameworks/R.framework/Resources/bin/R CyTOFpower.buildbin-libdir StartedAt: 2025-10-30 08:11:43 -0400 (Thu, 30 Oct 2025) EndedAt: 2025-10-30 08:11:52 -0400 (Thu, 30 Oct 2025) EllapsedTime: 9.2 seconds RetCode: 0 Status: OK PackageFile: CyTOFpower_1.16.0.tgz PackageFileSize: 557.3 KiB