Package: CyTOFpower Version: 1.15.0 Command: rm -rf CyTOFpower.buildbin-libdir && mkdir CyTOFpower.buildbin-libdir && /Users/biocbuild/BBS/utils/build-universal.sh CyTOFpower_1.15.0.tar.gz /Library/Frameworks/R.framework/Resources/bin/R CyTOFpower.buildbin-libdir StartedAt: 2025-10-24 22:59:43 -0400 (Fri, 24 Oct 2025) EndedAt: 2025-10-24 22:59:46 -0400 (Fri, 24 Oct 2025) EllapsedTime: 3.1 seconds RetCode: 0 Status: OK PackageFile: CyTOFpower_1.15.0.tgz PackageFileSize: 557.2 KiB