Package: CyTOFpower Version: 1.16.0 Maintainer: Anne-Maud Ferreira MaintainerEmail: anne-maud.ferreira at stanford.edu git_url: https://git.bioconductor.org/packages/CyTOFpower git_branch: RELEASE_3_22 git_last_commit: 9cc6940 git_last_commit_date: 2025-10-29 11:13:08 -0400 (Wed, 29 Oct 2025)