Package: CuratedAtlasQueryR Version: 1.7.0 Command: /home/biocbuild/bbs-3.22-bioc/R/bin/R CMD check --install=check:CuratedAtlasQueryR.install-out.txt --library=/home/biocbuild/bbs-3.22-bioc/R/site-library --timings CuratedAtlasQueryR_1.7.0.tar.gz StartedAt: 2025-10-27 22:33:56 -0400 (Mon, 27 Oct 2025) EndedAt: 2025-10-27 22:40:44 -0400 (Mon, 27 Oct 2025) EllapsedTime: 408.3 seconds RetCode: 0 Status: OK CheckDir: CuratedAtlasQueryR.Rcheck Warnings: 0