Package: CrispRVariants Version: 1.37.0 Command: /home/biocbuild/bbs-3.22-bioc/R/bin/R CMD INSTALL CrispRVariants StartedAt: 2025-10-27 15:28:25 -0400 (Mon, 27 Oct 2025) EndedAt: 2025-10-27 15:29:07 -0400 (Mon, 27 Oct 2025) EllapsedTime: 42.8 seconds RetCode: 0 Status: OK