Package: CoverageView Version: 1.47.0 Command: /home/biocbuild/R/R/bin/R CMD INSTALL CoverageView StartedAt: 2025-10-23 20:50:07 -0000 (Thu, 23 Oct 2025) EndedAt: 2025-10-23 20:50:47 -0000 (Thu, 23 Oct 2025) EllapsedTime: 40.0 seconds RetCode: 0 Status: OK