Package: CoverageView Version: 1.47.0 Command: /home/biocbuild/R/R/bin/R CMD build --keep-empty-dirs --no-resave-data CoverageView StartedAt: 2025-10-20 22:58:53 -0000 (Mon, 20 Oct 2025) EndedAt: 2025-10-20 22:59:56 -0000 (Mon, 20 Oct 2025) EllapsedTime: 63.0 seconds RetCode: 0 Status: OK PackageFile: CoverageView_1.47.0.tar.gz PackageFileSize: 2.572 MiB