Package: CoverageView Version: 1.47.0 Command: /home/biocbuild/bbs-3.22-bioc/R/bin/R CMD check --install=check:CoverageView.install-out.txt --library=/home/biocbuild/bbs-3.22-bioc/R/site-library --timings CoverageView_1.47.0.tar.gz StartedAt: 2025-10-27 22:25:25 -0400 (Mon, 27 Oct 2025) EndedAt: 2025-10-27 22:29:11 -0400 (Mon, 27 Oct 2025) EllapsedTime: 226.2 seconds RetCode: 0 Status: WARNINGS CheckDir: CoverageView.Rcheck Warnings: 1