Package: CoverageView Version: 1.47.0 Command: /Library/Frameworks/R.framework/Resources/bin/R CMD INSTALL CoverageView StartedAt: 2025-10-27 15:27:31 -0400 (Mon, 27 Oct 2025) EndedAt: 2025-10-27 15:28:13 -0400 (Mon, 27 Oct 2025) EllapsedTime: 41.6 seconds RetCode: 0 Status: OK