Package: CoverageView Version: 1.47.0 Command: rm -rf CoverageView.buildbin-libdir && mkdir CoverageView.buildbin-libdir && /Users/biocbuild/BBS/utils/build-universal.sh CoverageView_1.47.0.tar.gz /Library/Frameworks/R.framework/Resources/bin/R CoverageView.buildbin-libdir StartedAt: 2025-10-28 02:06:38 -0400 (Tue, 28 Oct 2025) EndedAt: 2025-10-28 02:07:23 -0400 (Tue, 28 Oct 2025) EllapsedTime: 45.1 seconds RetCode: 0 Status: OK PackageFile: CoverageView_1.47.0.tgz PackageFileSize: 2.959 MiB