Package: CoverageView Version: 1.47.0 Command: /Library/Frameworks/R.framework/Resources/bin/R CMD INSTALL CoverageView StartedAt: 2025-10-28 15:16:58 -0400 (Tue, 28 Oct 2025) EndedAt: 2025-10-28 15:17:10 -0400 (Tue, 28 Oct 2025) EllapsedTime: 12.2 seconds RetCode: 0 Status: OK