Package: CoreGx Version: 2.13.0 Command: /home/biocbuild/bbs-3.22-bioc/R/bin/R CMD check --install=check:CoreGx.install-out.txt --library=/home/biocbuild/bbs-3.22-bioc/R/site-library --timings CoreGx_2.13.0.tar.gz StartedAt: 2025-10-24 22:30:29 -0400 (Fri, 24 Oct 2025) EndedAt: 2025-10-24 22:36:40 -0400 (Fri, 24 Oct 2025) EllapsedTime: 370.4 seconds RetCode: 0 Status: OK CheckDir: CoreGx.Rcheck Warnings: 0