Package: CoreGx Version: 2.13.0 Command: /Library/Frameworks/R.framework/Resources/bin/R CMD INSTALL CoreGx StartedAt: 2025-10-24 15:31:23 -0400 (Fri, 24 Oct 2025) EndedAt: 2025-10-24 15:32:15 -0400 (Fri, 24 Oct 2025) EllapsedTime: 51.9 seconds RetCode: 0 Status: OK