Package: CoreGx Version: 2.13.0 Command: /Library/Frameworks/R.framework/Resources/bin/R CMD build --keep-empty-dirs --no-resave-data CoreGx StartedAt: 2025-10-24 16:38:45 -0400 (Fri, 24 Oct 2025) EndedAt: 2025-10-24 16:39:50 -0400 (Fri, 24 Oct 2025) EllapsedTime: 65.0 seconds RetCode: 0 Status: OK PackageFile: CoreGx_2.13.0.tar.gz PackageFileSize: 1.364 MiB