Package: CoreGx Version: 2.13.0 Command: rm -rf CoreGx.buildbin-libdir && mkdir CoreGx.buildbin-libdir && /Users/biocbuild/BBS/utils/build-universal.sh CoreGx_2.13.0.tar.gz /Library/Frameworks/R.framework/Resources/bin/R CoreGx.buildbin-libdir StartedAt: 2025-10-25 01:34:35 -0400 (Sat, 25 Oct 2025) EndedAt: 2025-10-25 01:35:32 -0400 (Sat, 25 Oct 2025) EllapsedTime: 56.7 seconds RetCode: 0 Status: OK PackageFile: CoreGx_2.13.0.tgz PackageFileSize: 2.427 MiB