Package: CoreGx Version: 2.13.0 Command: /Library/Frameworks/R.framework/Resources/bin/R CMD INSTALL CoreGx StartedAt: 2025-10-26 15:12:30 -0400 (Sun, 26 Oct 2025) EndedAt: 2025-10-26 15:12:46 -0400 (Sun, 26 Oct 2025) EllapsedTime: 15.7 seconds RetCode: 0 Status: OK