Package: CoreGx Version: 2.13.0 Command: /Library/Frameworks/R.framework/Resources/bin/R CMD build --keep-empty-dirs --no-resave-data CoreGx StartedAt: 2025-10-26 16:03:25 -0400 (Sun, 26 Oct 2025) EndedAt: 2025-10-26 16:03:49 -0400 (Sun, 26 Oct 2025) EllapsedTime: 23.2 seconds RetCode: 0 Status: OK PackageFile: CoreGx_2.13.0.tar.gz PackageFileSize: 1.364 MiB