Package: CopyNumberPlots Version: 1.25.0 Command: /home/biocbuild/bbs-3.22-bioc/R/bin/R CMD INSTALL CopyNumberPlots StartedAt: 2025-10-27 15:48:12 -0400 (Mon, 27 Oct 2025) EndedAt: 2025-10-27 15:48:58 -0400 (Mon, 27 Oct 2025) EllapsedTime: 46.6 seconds RetCode: 0 Status: OK