Package: CopyNumberPlots Version: 1.25.0 Command: /home/biocbuild/bbs-3.22-bioc/R/bin/R CMD check --install=check:CopyNumberPlots.install-out.txt --library=/home/biocbuild/bbs-3.22-bioc/R/site-library --timings CopyNumberPlots_1.25.0.tar.gz StartedAt: 2025-10-27 22:21:49 -0400 (Mon, 27 Oct 2025) EndedAt: 2025-10-27 22:27:57 -0400 (Mon, 27 Oct 2025) EllapsedTime: 367.3 seconds RetCode: 0 Status: OK CheckDir: CopyNumberPlots.Rcheck Warnings: 0