Package: CopyNumberPlots Version: 1.25.0 Command: /home/biocbuild/bbs-3.22-bioc/R/bin/R CMD build --keep-empty-dirs --no-resave-data --md5 CopyNumberPlots StartedAt: 2025-10-24 17:09:17 -0400 (Fri, 24 Oct 2025) EndedAt: 2025-10-24 17:10:50 -0400 (Fri, 24 Oct 2025) EllapsedTime: 93.0 seconds RetCode: 0 Status: OK PackageFile: CopyNumberPlots_1.25.0.tar.gz PackageFileSize: 1.771 MiB