Package: CopyNumberPlots Version: 1.25.0 Command: /Library/Frameworks/R.framework/Resources/bin/R CMD INSTALL CopyNumberPlots StartedAt: 2025-10-24 15:48:00 -0400 (Fri, 24 Oct 2025) EndedAt: 2025-10-24 15:49:04 -0400 (Fri, 24 Oct 2025) EllapsedTime: 64.6 seconds RetCode: 0 Status: OK